Workbook
Name _: #N/A
Name _?: #N/A
Name _??????: #N/A
Name ___PA7: '[1]SW-TEO'!#REF!
Name ___PA8: '[1]SW-TEO'!#REF!
Name ___PD1: '[1]SW-TEO'!#REF!
Name ___PE12: '[1]SW-TEO'!#REF!
Name ___PE13: '[1]SW-TEO'!#REF!
Name ___PE6: '[1]SW-TEO'!#REF!
Name ___PE7: '[1]SW-TEO'!#REF!
Name ___PE8: '[1]SW-TEO'!#REF!
Name ___PE9: '[1]SW-TEO'!#REF!
Name ___PH1: '[1]SW-TEO'!#REF!
Name ___PI1: '[1]SW-TEO'!#REF!
Name ___PK1: '[1]SW-TEO'!#REF!
Name ___PK3: '[1]SW-TEO'!#REF!
Name __PA7: '[2]SW-TEO'!#REF!
Name __PA8: '[2]SW-TEO'!#REF!
Name __PD1: '[2]SW-TEO'!#REF!
Name __PE12: '[2]SW-TEO'!#REF!
Name __PE13: '[2]SW-TEO'!#REF!
Name __PE6: '[2]SW-TEO'!#REF!
Name __PE7: '[2]SW-TEO'!#REF!
Name __PE8: '[2]SW-TEO'!#REF!
Name __PE9: '[2]SW-TEO'!#REF!
Name __PH1: '[2]SW-TEO'!#REF!
Name __PI1: '[2]SW-TEO'!#REF!
Name __PK1: '[2]SW-TEO'!#REF!
Name __PK3: '[2]SW-TEO'!#REF!
Name _PA7: '[2]SW-TEO'!#REF!
Name _PA8: '[2]SW-TEO'!#REF!
Name _PD1: '[2]SW-TEO'!#REF!
Name _PE12: '[2]SW-TEO'!#REF!
Name _PE13: '[2]SW-TEO'!#REF!
Name _PE6: '[2]SW-TEO'!#REF!
Name _PE7: '[2]SW-TEO'!#REF!
Name _PE8: '[2]SW-TEO'!#REF!
Name _PE9: '[2]SW-TEO'!#REF!
Name _PH1: '[2]SW-TEO'!#REF!
Name _PI1: '[2]SW-TEO'!#REF!
Name _PK1: '[2]SW-TEO'!#REF!
Name _PK3: '[2]SW-TEO'!#REF!
Name aa: #N/A
Name aiu_bottom: '[4]Financ. Overview'!#REF!
Name BJDX: '[1]Financ. Overview'!$A$32
Name BJHJ: [5]ZB!$I$32
Name BTBJRQ: [5]ZB!$I$4
Name BTDH: [5]清单汇总表!$B$6
Name BTDHCZ: [5]ZB!$I$5
Name BTDHDW: [5]清单汇总表!$B$4
Name BTDJBH: [5]ZB!$I$3
Name BTLXR: [5]清单汇总表!$B$7
Name BTRQ: [5]清单汇总表!$B$5
Name BTxjdw: [5]ZB!$A$3
Name BTXMMC: [5]ZB!$A$4
Name cost: #N/A
Name Documents_array: [6]XL4Poppy!$B$1:$B$16
Name FRC: [7]eqpmad2!$C$9
Name Hello: [6]XL4Poppy!$A$15
Name HJ: '[5]MXB1'!$A$43

Sheet 招标范围
A1: 神东煤炭集团2018年9月寄售物资公开招标采购方案
A2: 包次 | B2: 物资分类 | C2: 种类 | D2: 质量标准 | E2: 投标要求 | F2: 拟下次寄售协议截止时间 | G2: 交货期 | H2: 交货地点
A3: 1 | B3: 8.8米大采高配套变频一体机备件 | C3: 267 | D3: 报价时附质量标准 | E3: 1.投标人必须是生产厂商； 2.投标人承诺提供产品满足与神东在用主机整体配套使用及零配件的互换性。 | F3: 44377 | G3: 接到甲方通知60天内（具体以甲方实际通知为准） | H3: 甲方指定地点
A4: 2 | B4: 三机电控改造备件 | C4: 13 | D4: 报价时附质量标准 | E4: 1.投标人必须是生产厂商； 2.投标人承诺提供产品满足与神东在用主机整体配套使用及零配件的互换性。 | F4: 44377 | G4: 接到甲方通知60天内（具体以甲方实际通知为准） | H4: 甲方指定地点
A5: 3 | B5: 三机工作面电控改造备件 | C5: 30 | D5: 报价时附质量标准 | E5: 1.投标人必须是生产厂商； 2.投标人承诺提供产品满足与神东在用主机整体配套使用及零配件的互换性。 | F5: 44377 | G5: 接到甲方通知60天内（具体以甲方实际通知为准） | H5: 甲方指定地点
A6: 4 | B6: 无锡威顺改造卡玛特泵站整机备件 | C6: 90 | D6: 报价时附质量标准 | E6: 1.投标人必须是生产厂商； 2.投标人承诺提供产品满足与神东在用主机整体配套使用及零配件的互换性。 | F6: 44561 | G6: 接到甲方通知60天内（具体以甲方实际通知为准） | H6: 甲方指定地点
A7: 5 | B7: 泵站电控箱改造（常州联力） | C7: 28 | D7: 报价时附执行标准 | E7: 1.投标人必须是生产厂商； 2.投标人承诺提供产品满足与神东在用主机整体配套使用及零配件的互换性。 | F7: 44377 | G7: 接到甲方通知60天内（具体以甲方实际通知为准） | H7: 甲方指定地点
A8: 6 | B8: 泵站电控箱改造（青岛天信） | C8: 107 | D8: 报价时附执行标准 | E8: 1.投标人必须是生产厂商； 2.投标人承诺提供产品满足与神东在用主机整体配套使用及零配件的互换性。 | F8: 44377 | G8: 接到甲方通知60天内（具体以甲方实际通知为准） | H8: 甲方指定地点
A9: 7 | B9: 北京天地玛珂改造雷波、卡玛特泵站整机备件 | C9: 213 | D9: 报价时附质量标准 | E9: 1.投标人必须是生产厂商； 2.投标人承诺提供产品满足与神东在用主机整体配套使用及零配件的互换性。 | F9: 44561 | G9: 接到甲方通知60天内（具体以甲方实际通知为准） | H9: 甲方指定地点
A10: 8 | B10: SANDVIK MB670掘锚机电控改造备件 | C10: 82 | D10: 报价时附质量标准 | E10: 1.投标人必须是生产厂商； 2.投标人承诺提供产品满足与神东在用主机整体配套使用及零配件的互换性。 | F10: 44377 | G10: 接到甲方通知60天内（具体以甲方实际通知为准） | H10: 甲方指定地点
A11: 9 | B11: JOY 12CM15连采机电控改造备件 | C11: 151 | D11: 报价时附质量标准 | E11: 1.投标人必须是生产厂商； 2.投标人承诺提供产品满足与神东在用主机整体配套使用及零配件的互换性。 | F11: 44377 | G11: 接到甲方通知60天内（具体以甲方实际通知为准） | H11: 甲方指定地点
A12: 10 | B12: EKF SL500采煤机电控改造备件 | C12: 82 | D12: 报价时附质量标准 | E12: 1.投标人必须是生产厂商； 2.投标人承诺提供产品满足与神东在用主机整体配套使用及零配件的互换性。 | F12: 44377 | G12: 接到甲方通知60天内（具体以甲方实际通知为准） | H12: 甲方指定地点
A13: 11 | B13: EKF SL900采煤机电控改造备件 | C13: 107 | D13: 报价时附质量标准 | E13: 1.投标人必须是生产厂商； 2.投标人承诺提供产品满足与神东在用主机整体配套使用及零配件的互换性。 | F13: 44377 | G13: 接到甲方通知60天内（具体以甲方实际通知为准） | H13: 甲方指定地点
A14: 12 | B14: 采煤机电控改造备件 | C14: 207 | D14: 报价时附质量标准 | E14: 1.投标人必须是生产厂商； 2.投标人承诺提供产品满足与神东在用主机整体配套使用及零配件的互换性。 | F14: 44377 | G14: 接到甲方通知60天内（具体以甲方实际通知为准） | H14: 甲方指定地点
... A30: 28 | B30: 上湾8.8米采煤机牵引块改造备件 | C30: 109 | D30: 报价时附质量标准 | E30: 1.投标人必须是生产厂商； 2.投标人递交投标文件中承诺提供产品满足与神东在用主机整体配套使用及零配件的互换性。 | F30: 44377 | G30: 接到甲方通知60天内（具体以甲方实际通知为准） | H30: 甲方指定地点

Sheet 明细
A1: 序号 | B1: 物资分类 | C1: 物料编码 | D1: 物料描述 | E1: 技术文件 | F1: 预估消耗量 | G1: 计量单位 | H1: 管理方式 | I1: 主机厂家 | J1: 主机型号 | K1: 备注
A2: 一 | B2: 8.8米大采高配套变频一体机备件
A3: 1 | B3: 8.8米大采高配套变频一体机备件 | C3: =VLOOKUP(D3,[17]寄售预测计划!$D:$E,2,0) -> 11874768 | D3: BECKHOFF模块\01020202004 | F3: 1 | G3: 件 | H3: 有订单 | I3: 青岛中加特变频电机有限公司 | J3: KXJ-127 | K3: 变频一体机备件
A4: 2 | B4: 8.8米大采高配套变频一体机备件 | C4: =VLOOKUP(D4,[17]寄售预测计划!$D:$E,2,0) -> 11874769 | D4: BECKHOFF模块\01020202015 | F4: 1 | G4: 件 | H4: 有订单 | I4: 青岛中加特变频电机有限公司 | J4: KXJ-127 | K4: 变频一体机备件
A5: 3 | B5: 8.8米大采高配套变频一体机备件 | C5: =VLOOKUP(D5,[17]寄售预测计划!$D:$E,2,0) -> 11874770 | D5: BECKHOFF模块\01020202017 | F5: 1 | G5: 件 | H5: 有订单 | I5: 青岛中加特变频电机有限公司 | J5: KXJ-127 | K5: 变频一体机备件
A6: 4 | B6: 8.8米大采高配套变频一体机备件 | C6: =VLOOKUP(D6,[17]寄售预测计划!$D:$E,2,0) -> 11874766 | D6: BECKHOFF模块\01020202010 | F6: 1 | G6: 件 | H6: 有订单 | I6: 青岛中加特变频电机有限公司 | J6: KXJ-127 | K6: 变频一体机备件
A7: 5 | B7: 8.8米大采高配套变频一体机备件 | C7: =VLOOKUP(D7,[17]寄售预测计划!$D:$E,2,0) -> 11874757 | D7: 隔离式安全栅\01020703003 | F7: 1 | G7: 件 | H7: 有订单 | I7: 青岛中加特变频电机有限公司 | J7: KXJ-127 | K7: 变频一体机备件
A8: 6 | B8: 8.8米大采高配套变频一体机备件 | C8: =VLOOKUP(D8,[17]寄售预测计划!$D:$E,2,0) -> 11874762 | D8: EIP网关\01020703024 | F8: 1 | G8: 件 | H8: 有订单 | I8: 青岛中加特变频电机有限公司 | J8: KXJ-127 | K8: 变频一体机备件
A9: 7 | B9: 8.8米大采高配套变频一体机备件 | C9: =VLOOKUP(D9,[17]寄售预测计划!$D:$E,2,0) -> 11874761 | D9: 隔离式安全栅\01020703021 | F9: 1 | G9: 件 | H9: 有订单 | I9: 青岛中加特变频电机有限公司 | J9: KXJ-127 | K9: 变频一体机备件
A10: 8 | B10: 8.8米大采高配套变频一体机备件 | C10: =VLOOKUP(D10,[17]寄售预测计划!$D:$E,2,0) -> 11874763 | D10: 断路器\01020603002 | F10: 1 | G10: 件 | H10: 有订单 | I10: 青岛中加特变频电机有限公司 | J10: KXJ-127 | K10: 变频一体机备件
A11: 9 | B11: 8.8米大采高配套变频一体机备件 | C11: =VLOOKUP(D11,[17]寄售预测计划!$D:$E,2,0) -> 11874764 | D11: 开关电源\01020301010 | F11: 1 | G11: 件 | H11: 有订单 | I11: 青岛中加特变频电机有限公司 | J11: KXJ-127 | K11: 变频一体机备件
A12: 10 | B12: 8.8米大采高配套变频一体机备件 | C12: =VLOOKUP(D12,[17]寄售预测计划!$D:$E,2,0) -> 11874765 | D12: 矩阵键盘\01020207001 | F12: 1 | G12: 件 | H12: 有订单 | I12: 青岛中加特变频电机有限公司 | J12: KXJ-127 | K12: 变频一体机备件
A13: 11 | B13: 8.8米大采高配套变频一体机备件 | C13: =VLOOKUP(D13,[17]寄售预测计划!$D:$E,2,0) -> 11874753 | D13: 闭锁按钮组装\04010204002 | F13: 1 | G13: 件 | H13: 有订单 | I13: 青岛中加特变频电机有限公司 | J13: KXJ-127 | K13: 变频一体机备件
A14: 12 | B14: 8.8米大采高配套变频一体机备件 | C14: =VLOOKUP(D14,[17]寄售预测计划!$D:$E,2,0) -> 11874752 | D14: 金属旋钮\01020605002 | F14: 1 | G14: 件 | H14: 有订单 | I14: 青岛中加特变频电机有限公司 | J14: KXJ-127 | K14: 变频一体机备件
... A248: 246 | B248: 8.8米大采高配套变频一体机备件 | C248: =VLOOKUP(D248,[17]寄售预测计划!$D:$E,2,0) -> 11874796 | D248: 前端盖板\04010202043 | F248: 1 | G248: 件 | H248: 有订单 | I248: 青岛中加特变频电机有限公司 | J248: 1200kW | K248: 变频一体机备件
A249: 247 | B249: 8.8米大采高配套变频一体机备件 | C249: =VLOOKUP(D249,[17]寄售预测计划!$D:$E,2,0) -> 11902819 | D249: 电缆连接器插头\01040102016 | F249: 1 | G249: 件 | H249: 有订单 | I249: 青岛中加特变频电机有限公司 | J249: CCS-LQ-03
A250: 248 | B250: 8.8米大采高配套变频一体机备件 | C250: =VLOOKUP(D250,[17]寄售预测计划!$D:$E,2,0) -> 11902820 | D250: 电缆连接器插头\01040102009 | F250: 1 | G250: 件 | H250: 有订单 | I250: 青岛中加特变频电机有限公司 | J250: CCS-LQ-03
A251: 249 | B251: 8.8米大采高配套变频一体机备件 | C251: =VLOOKUP(D251,[17]寄售预测计划!$D:$E,2,0) -> 11902821 | D251: 直式过渡接头\01060602102 | F251: 1 | G251: 件 | H251: 有订单 | I251: 青岛中加特变频电机有限公司 | J251: CCS-LQ-03
A252: 250 | B252: 8.8米大采高配套变频一体机备件 | C252: =VLOOKUP(D252,[17]寄售预测计划!$D:$E,2,0) -> 11902822 | D252: 分水盒\04060301022 | F252: 1 | G252: 件 | H252: 有订单 | I252: 青岛中加特变频电机有限公司 | J252: CCS-LQ-03
A253: 251 | B253: 8.8米大采高配套变频一体机备件 | C253: =VLOOKUP(D253,[17]寄售预测计划!$D:$E,2,0) -> 11902823 | D253: 法兰截止阀\01060603029 | F253: 1 | G253: 件 | H253: 有订单 | I253: 青岛中加特变频电机有限公司 | J253: CCS-LQ-03
A254: 252 | B254: 8.8米大采高配套变频一体机备件 | C254: =VLOOKUP(D254,[17]寄售预测计划!$D:$E,2,0) -> 11902833 | D254: 内螺纹截止阀\01060603032 | F254: 1 | G254: 件 | H254: 有订单 | I254: 青岛中加特变频电机有限公司 | J254: CCS-LQ-03
A255: 253 | B255: 8.8米大采高配套变频一体机备件 | C255: =VLOOKUP(D255,[17]寄售预测计划!$D:$E,2,0) -> 11902837 | D255: 反冲洗过滤器\01060603028 | F255: 1 | G255: 件 | H255: 有订单 | I255: 青岛中加特变频电机有限公司 | J255: CCS-LQ-03
A256: 254 | B256: 8.8米大采高配套变频一体机备件 | C256: =VLOOKUP(D256,[17]寄售预测计划!$D:$E,2,0) -> 11902838 | D256: 法兰截止阀\01060603030 | F256: 1 | G256: 件 | H256: 有订单 | I256: 青岛中加特变频电机有限公司 | J256: CCS-LQ-03
A257: 255 | B257: 8.8米大采高配套变频一体机备件 | C257: =VLOOKUP(D257,[17]寄售预测计划!$D:$E,2,0) -> 11902839 | D257: 截止阀\01060603031 | F257: 1 | G257: 件 | H257: 有订单 | I257: 青岛中加特变频电机有限公司 | J257: CCS-LQ-03
A258: 256 | B258: 8.8米大采高配套变频一体机备件 | C258: =VLOOKUP(D258,[17]寄售预测计划!$D:$E,2,0) -> 11902836 | D258: 安全阀\01060603035 | F258: 1 | G258: 件 | H258: 有订单 | I258: 青岛中加特变频电机有限公司 | J258: CCS-LQ-03
A259: 257 | B259: 8.8米大采高配套变频一体机备件 | C259: =VLOOKUP(D259,[17]寄售预测计划!$D:$E,2,0) -> 11902835 | D259: 转换接头\01060602171 | F259: 1 | G259: 件 | H259: 有订单 | I259: 青岛中加特变频电机有限公司 | J259: CCS-LQ-03
A260: 258 | B260: 8.8米大采高配套变频一体机备件 | C260: =VLOOKUP(D260,[17]寄售预测计划!$D:$E,2,0) -> 11902834 | D260: 压力表\03010609051 | F260: 1 | G260: 件 | H260: 有订单 | I260: 青岛中加特变频电机有限公司 | J260: CCS-LQ-03
... A269: 267 | B269: 8.8米大采高配套变频一体机备件 | C269: =VLOOKUP(D269,[17]寄售预测计划!$D:$E,2,0) -> 11902824 | D269: 矿用防爆型电机\01021501004 | F269: 1 | G269: 件 | H269: 有订单 | I269: 青岛中加特变频电机有限公司 | J269: CCS-LQ-03
A270: 二 | B270: 三机电控改造备件
A271: 1 | B271: 三机电控改造备件 | C271: =VLOOKUP(D271,[17]寄售预测计划!$D:$E,2,0) -> 11616870 | D271: 终端插头\214110018\国产 | F271: 1 | G271: 件 | H271: 有订单 | I271: 常州联力
A272: 2 | B272: 三机电控改造备件 | C272: =VLOOKUP(D272,[17]寄售预测计划!$D:$E,2,0) -> 11908870 | D272: 矿用可编程控制器\111210077\KXH18 | F272: 1 | G272: 件 | H272: 有订单 | I272: 常州联力
A273: 3 | B273: 三机电控改造备件 | C273: =VLOOKUP(D273,[17]寄售预测计划!$D:$E,2,0) -> 11908871 | D273: 矿用隔爆兼本安型控制器\111210084\KXJ127 | F273: 1 | G273: 件 | H273: 有订单 | I273: 常州联力
A274: 4 | B274: 三机电控改造备件 | C274: =VLOOKUP(D274,[17]寄售预测计划!$D:$E,2,0) -> 11908869 | D274: 矿用本安型控制器\111210081\KXH18(B) | F274: 1 | G274: 件 | H274: 有订单 | I274: 常州联力
A275: 5 | B275: 三机电控改造备件 | C275: =VLOOKUP(D275,[17]寄售预测计划!$D:$E,2,0) -> 11908868 | D275: 隔爆兼本安电源箱\111210064\DXJ127/18*A1 | F275: 1 | G275: 件 | H275: 有订单 | I275: 常州联力
A276: 6 | B276: 三机电控改造备件 | C276: =VLOOKUP(D276,[17]寄售预测计划!$D:$E,2,0) -> 11908867 | D276: 工作面不锈钢铠装接插电缆(300m)\371110165\MHYVP322*1.5+1.0*2+2*0.5+2*0.5 | F276: 1 | G276: 件 | H276: 有订单 | I276: 常州联力
A277: 7 | B277: 三机电控改造备件 | C277: =VLOOKUP(D277,[17]寄售预测计划!$D:$E,2,0) -> 11908866 | D277: 工作面不锈钢铠装接插电缆(350m)\371110166\MHYVP322*1.5+1.0*2+2*0.5+2*0.5 | F277: 1 | G277: 件 | H277: 有订单 | I277: 常州联力
A278: 8 | B278: 三机电控改造备件 | C278: =VLOOKUP(D278,[17]寄售预测计划!$D:$E,2,0) -> 11908865 | D278: KTK16(C)矿用本安型急停扩音电话（件号：B2）\111210124\KTKB1.0P | F278: 1 | G278: 件 | H278: 有订单 | I278: 常州联力
A279: 9 | B279: 三机电控改造备件 | C279: =VLOOKUP(D279,[17]寄售预测计划!$D:$E,2,0) -> 11908864 | D279: 控制分站主板\141210008\KTC2.02 | F279: 1 | G279: 件 | H279: 有订单 | I279: 常州联力
A280: 10 | B280: 三机电控改造备件 | C280: =VLOOKUP(D280,[17]寄售预测计划!$D:$E,2,0) -> 11908863 | D280: 信号调理板\361120196\KTC2.03 | F280: 1 | G280: 件 | H280: 有订单 | I280: 常州联力
A281: 11 | B281: 三机电控改造备件 | C281: =VLOOKUP(D281,[17]寄售预测计划!$D:$E,2,0) -> 11908862 | D281: 主控板\141210009\KTC1.02 | F281: 1 | G281: 件 | H281: 有订单 | I281: 常州联力
A282: 12 | B282: 三机电控改造备件 | C282: =VLOOKUP(D282,[17]寄售预测计划!$D:$E,2,0) -> 11908861 | D282: 液晶组件制成板\471110003\FYD12864 | F282: 1 | G282: 件 | H282: 有订单 | I282: 常州联力
A283: 13 | B283: 三机电控改造备件 | C283: =VLOOKUP(D283,[17]寄售预测计划!$D:$E,2,0) -> 11908860 | D283: 18V本安电源模块\361120243\DYB.02 | F283: 1 | G283: 件 | H283: 有订单 | I283: 常州联力
A284: 三 | B284: 三机工作面电控改造备件
A285: 1 | B285: 三机工作面电控改造备件 | C285: =VLOOKUP(D285,[17]寄售预测计划!$D:$E,2,0) -> 11421077 | D285: 操作箱\05019901002\青岛天信 | F285: 1 | G285: 件 | H285: 有订单 | I285: 青岛天信
A286: 2 | B286: 三机工作面电控改造备件 | C286: =VLOOKUP(D286,[17]寄售预测计划!$D:$E,2,0) -> 11902138 | D286: 三机控制平台箱体04020208010 | F286: 1 | G286: 件 | H286: 有订单 | I286: 青岛天信
A287: 3 | B287: 三机工作面电控改造备件 | C287: =VLOOKUP(D287,[17]寄售预测计划!$D:$E,2,0) -> 11902117 | D287: 接线端子（LED灯）01069901001 | F287: 1 | G287: 件 | H287: 有订单 | I287: 青岛天信
A288: 4 | B288: 三机工作面电控改造备件 | C288: =VLOOKUP(D288,[17]寄售预测计划!$D:$E,2,0) -> 11902116 | D288: BECKHOFF模块01030102035 | F288: 1 | G288: 件 | H288: 有订单 | I288: 青岛天信
A289: 5 | B289: 三机工作面电控改造备件 | C289: =VLOOKUP(D289,[17]寄售预测计划!$D:$E,2,0) -> 11902115 | D289: BECKHOFF模块01030102027 | F289: 1 | G289: 件 | H289: 有订单 | I289: 青岛天信
A290: 6 | B290: 三机工作面电控改造备件 | C290: =VLOOKUP(D290,[17]寄售预测计划!$D:$E,2,0) -> 11902112 | D290: M32夹紧圈塞棒01071701008 | F290: 1 | G290: 件 | H290: 有订单 | I290: 青岛天信
A291: 7 | B291: 三机工作面电控改造备件 | C291: =VLOOKUP(D291,[17]寄售预测计划!$D:$E,2,0) -> 11902113 | D291: 本安不锈钢箱01070601015 | F291: 1 | G291: 件 | H291: 有订单 | I291: 青岛天信
A292: 8 | B292: 三机工作面电控改造备件 | C292: =VLOOKUP(D292,[17]寄售预测计划!$D:$E,2,0) -> 11902114 | D292: 屏蔽电缆01050202019 | F292: 1 | G292: 件 | H292: 有订单 | I292: 青岛天信
A293: 9 | B293: 三机工作面电控改造备件 | C293: =VLOOKUP(D293,[17]寄售预测计划!$D:$E,2,0) -> 11903509 | D293: O型圈01040501016 | F293: 1 | G293: 件 | H293: 有订单 | I293: 青岛天信
A294: 10 | B294: 三机工作面电控改造备件 | C294: =VLOOKUP(D294,[17]寄售预测计划!$D:$E,2,0) -> 11902111 | D294: 机载监控装置04020208011 | F294: 1 | G294: 件 | H294: 有订单 | I294: 青岛天信
A295: 11 | B295: 三机工作面电控改造备件 | C295: =VLOOKUP(D295,[17]寄售预测计划!$D:$E,2,0) -> 11902109 | D295: 显示密封垫04020206068 | F295: 1 | G295: 件 | H295: 有订单 | I295: 青岛天信
A296: 12 | B296: 三机工作面电控改造备件 | C296: =VLOOKUP(D296,[17]寄售预测计划!$D:$E,2,0) -> 11902110 | D296: 显示铜垫04020201263 | F296: 1 | G296: 件 | H296: 有订单 | I296: 青岛天信
... A300: 16 | B300: 三机工作面电控改造备件 | C300: =VLOOKUP(D300,[17]寄售预测计划!$D:$E,2,0) -> 11902105 | D300: 矿用隔爆兼本质安全型刮板输送机转换箱05019901007 | F300: 1 | G300: 件 | H300: 有订单 | I300: 青岛天信
A301: 17 | B301: 三机工作面电控改造备件 | C301: =VLOOKUP(D301,[17]寄售预测计划!$D:$E,2,0) -> 10671760 | D301: 低压电源指示模块\05020201018|TX-LPOWDISPLAY-V1 | F301: 1 | G301: 个 | H301: 有订单 | I301: 青岛天信电气有限公司 | J301: SGZ1000/3X1000
A302: 18 | B302: 三机工作面电控改造备件 | C302: =VLOOKUP(D302,[17]寄售预测计划!$D:$E,2,0) -> 10158531 | D302: 转换开关\1031999015|CA10-S10\张家口/2×1000\国产 | F302: 1 | G302: 件 | H302: 有订单 | I302: 青岛天信电气有限公司 | J302: SGZ1000/2X1000
A303: 19 | B303: 三机工作面电控改造备件 | C303: =VLOOKUP(D303,[17]寄售预测计划!$D:$E,2,0) -> 10131364 | D303: 显示屏\1030301005|XTOP12TS\国产 | F303: 1 | G303: 件 | H303: 无订单 | I303: 青岛天信电气有限公司 | J303: SGZ1000/2X1000
A304: 20 | B304: 三机工作面电控改造备件 | C304: =VLOOKUP(D304,[17]寄售预测计划!$D:$E,2,0) -> 10116223 | D304: 数据上传模块\5020201033|TX-SJSC-V01\张家口\国产 | F304: 1 | G304: 件 | H304: 无订单 | I304: 青岛天信电气有限公司 | J304: SGZ1000/2X1000
A305: 21 | B305: 三机工作面电控改造备件 | C305: =VLOOKUP(D305,[17]寄售预测计划!$D:$E,2,0) -> 10077628 | D305: 开关电源\1032601017|SP-320-24\张家口/2×1000\国产 | F305: 1 | G305: 件 | H305: 无订单 | I305: 青岛天信电气有限公司 | J305: SGZ1000/2X1000
A306: 22 | B306: 三机工作面电控改造备件 | C306: =VLOOKUP(D306,[17]寄售预测计划!$D:$E,2,0) -> 10051217 | D306: 隔离式安全栅\1031601013|GS8036-EX\张家口\国产 | F306: 1 | G306: 件 | H306: 有订单 | I306: 青岛天信电气有限公司 | J306: SGZ1000/2X1000
A307: 23 | B307: 三机工作面电控改造备件 | C307: =VLOOKUP(D307,[17]寄售预测计划!$D:$E,2,0) -> 10015045 | D307: 本安电源板\4010101001|DXJ-24/12\张家口/2×1000\国产 | F307: 1 | G307: 件 | H307: 有订单 | I307: 青岛天信电气有限公司 | J307: SGZ1000/2X1000
A308: 24 | B308: 三机工作面电控改造备件 | C308: =VLOOKUP(D308,[17]寄售预测计划!$D:$E,2,0) -> 10010889 | D308: RS232/TTY转换器\1030299006|WDSRS232/TTY\国产 | F308: 1 | G308: 件 | H308: 有订单 | I308: 青岛天信电气有限公司 | J308: SGZ1000/2X1000
A309: 25 | B309: 三机工作面电控改造备件 | C309: =VLOOKUP(D309,[17]寄售预测计划!$D:$E,2,0) -> 10006117 | D309: BECKHOFF模块\1030102028|BX-8000\张家口\国产 | F309: 1 | G309: 件 | H309: 有订单 | I309: 青岛天信电气有限公司 | J309: SGZ1000/2X1000
A310: 26 | B310: 三机工作面电控改造备件 | C310: =VLOOKUP(D310,[17]寄售预测计划!$D:$E,2,0) -> 10006116 | D310: BECKHOFF模块\1030102027|KL6041\张家口\国产 | F310: 1 | G310: 件 | H310: 有订单 | I310: 青岛天信电气有限公司 | J310: SGZ1000/2X1000
A311: 27 | B311: 三机工作面电控改造备件 | C311: =VLOOKUP(D311,[17]寄售预测计划!$D:$E,2,0) -> 10006115 | D311: BECKHOFF模块\1030102025|KL6031\张家口\国产 | F311: 1 | G311: 件 | H311: 有订单 | I311: 青岛天信电气有限公司 | J311: SGZ1000/2X1000
A312: 28 | B312: 三机工作面电控改造备件 | C312: =VLOOKUP(D312,[17]寄售预测计划!$D:$E,2,0) -> 10006114 | D312: BECKHOFF模块\1030102024|BC5150\张家口\国产 | F312: 1 | G312: 件 | H312: 有订单 | I312: 青岛天信电气有限公司 | J312: SGZ1000/2X1000
... A314: 30 | B314: 三机工作面电控改造备件 | C314: =VLOOKUP(D314,[17]寄售预测计划!$D:$E,2,0) -> 10006112 | D314: BECKHOFF模块\1030102011|KL2622\张家口\国产 | F314: 1 | G314: 件 | H314: 有订单 | I314: 青岛天信电气有限公司 | J314: SGZ1000/2X1000
A315: 四 | B315: 无锡威顺改造卡玛特泵站整机备件
A316: 1 | B316: 无锡威顺改造卡玛特泵站整机备件 | C316: 10078132 | D316: 开口销\K1111/4\乳化液泵站\S300\国产化 | E316: K1111/4,,, | F316: 7 | G316: 件 | H316: 寄售有订单 | I316: 无锡威顺煤矿机械有限公司 | J316: 泵站\S502 | K316: 实际年消耗为试用矿井消耗；试用矿井榆家梁，布尔台，补连塔，石圪台矿。
A317: 2 | B317: 无锡威顺改造卡玛特泵站整机备件 | C317: 10142863 | D317: 油滤芯\L2164/16\乳化液泵\S200\国产化 | E317: L2164/16,,, | F317: 10 | G317: 件 | H317: 寄售有订单 | I317: 无锡威顺煤矿机械有限公司 | J317: 泵站\S504 | K317: 实际年消耗为试用矿井消耗；试用矿井榆家梁，布尔台，补连塔，石圪台矿。
A318: 3 | B318: 无锡威顺改造卡玛特泵站整机备件 | C318: 10168099 | D318: 垫片\K3010/2\乳化液泵\S200\国产化 | E318: K3010/2 | F318: 1 | G318: 件 | H318: 寄售有订单 | I318: 无锡威顺煤矿机械有限公司 | J318: 泵站\S506 | K318: 实际年消耗为试用矿井消耗；试用矿井榆家梁，布尔台，补连塔，石圪台矿。
A319: 4 | B319: 无锡威顺改造卡玛特泵站整机备件 | C319: 10186756 | D319: 填料箱\K2009/25\乳化液泵\S250\国产化 | E319: K2009/25,,, | F319: 1 | G319: 件 | H319: 寄售有订单 | I319: 无锡威顺煤矿机械有限公司 | J319: 泵站\S509 | K319: 实际年消耗为试用矿井消耗；试用矿井榆家梁，布尔台，补连塔，石圪台矿。
A320: 5 | B320: 无锡威顺改造卡玛特泵站整机备件 | C320: 10192934 | D320: 柱塞帽\K1230/12\喷雾泵\S200\国产化 | E320: K1230/12,,, | F320: 1 | G320: 件 | H320: 寄售有订单 | I320: 无锡威顺煤矿机械有限公司 | J320: 泵站\S513 | K320: 实际年消耗为试用矿井消耗；试用矿井榆家梁，布尔台，补连塔，石圪台矿。
A321: 6 | B321: 无锡威顺改造卡玛特泵站整机备件 | C321: 10786481 | D321: O型密封圈\φ26×3mm\丁腈橡胶 | E321: K1003/80 | F321: 1 | G321: 个 | H321: 寄售有订单 | I321: 无锡威顺煤矿机械有限公司 | J321: 泵站\S516 | K321: 实际年消耗为试用矿井消耗；试用矿井榆家梁，布尔台，补连塔，石圪台矿。
A322: 7 | B322: 无锡威顺改造卡玛特泵站整机备件 | C322: 10954467 | D322: O型密封圈\φ74×3mm\丁腈橡胶 | E322: K1003/66,K1003/77,, | F322: 1 | G322: 个 | H322: 寄售有订单 | I322: 无锡威顺煤矿机械有限公司 | J322: 泵站\S517 | K322: 实际年消耗为试用矿井消耗；试用矿井榆家梁，布尔台，补连塔，石圪台矿。
A323: 8 | B323: 无锡威顺改造卡玛特泵站整机备件 | C323: 10984894 | D323: 平垫圈\24mm\4mm\Q235A\GB/T97.1 | E323: K3010/8,,, | F323: 1 | G323: 个 | H323: 寄售有订单 | I323: 无锡威顺煤矿机械有限公司 | J323: 泵站\S518 | K323: 实际年消耗为试用矿井消耗；试用矿井榆家梁，布尔台，补连塔，石圪台矿。
A324: 9 | B324: 无锡威顺改造卡玛特泵站整机备件 | C324: 11027283 | D324: O型密封圈\φ56×3.6mm\丁腈橡胶 | E324: K1003/116 | F324: 1 | G324: 个 | H324: 寄售有订单 | I324: 无锡威顺煤矿机械有限公司 | J324: 泵站\S519 | K324: 实际年消耗为试用矿井消耗；试用矿井榆家梁，布尔台，补连塔，石圪台矿。
A325: 10 | B325: 无锡威顺改造卡玛特泵站整机备件 | C325: 11393138 | D325: O型密封圈\φ92×5.7mm\丁腈橡胶 | E325: K1003/141 | F325: 1 | G325: 个 | H325: 寄售有订单 | I325: 无锡威顺煤矿机械有限公司 | J325: 泵站\S520 | K325: 实际年消耗为试用矿井消耗；试用矿井榆家梁，布尔台，补连塔，石圪台矿。
A326: 11 | B326: 无锡威顺改造卡玛特泵站整机备件 | C326: 11399048 | D326: 柱塞\K2025/25\喷雾泵\S500\国产 | E326: K2025/25,,, | F326: 9 | G326: 件 | H326: 寄售有订单 | I326: 无锡威顺煤矿机械有限公司 | J326: 泵站\S521 | K326: 实际年消耗为试用矿井消耗；试用矿井榆家梁，布尔台，补连塔，石圪台矿。
A327: 12 | B327: 无锡威顺改造卡玛特泵站整机备件 | C327: 11399049 | D327: 大齿轮\L2040/13\喷雾泵\S500\国产 | E327: L2040/13,,, | F327: 1 | G327: 件 | H327: 寄售有订单 | I327: 无锡威顺煤矿机械有限公司 | J327: 泵站\S522 | K327: 实际年消耗为试用矿井消耗；试用矿井榆家梁，布尔台，补连塔，石圪台矿。
... A405: 90 | B405: 无锡威顺改造卡玛特泵站整机备件 | C405: 11532336 | D405: 双耳止动垫圈\27mm\1.5mm\Q235A\GB/T855 | E405: K2018/12,,, | F405: 1 | G405: 个 | H405: 寄售有订单 | I405: 无锡威顺煤矿机械有限公司 | J405: 泵站\S611 | K405: 实际年消耗为试用矿井消耗；试用矿井榆家梁，布尔台，补连塔，石圪台矿。
A406: 五 | B406: 泵站电控箱改造（常州联力）
A407: 1 | B407: 泵站电控箱改造（常州联力） | C407: 11786310 | D407: 传感器接插件\544310144|M12|带2m PUR\K35055M\国产 | E407: 544310144 | F407: 1 | G407: 件 | H407: 寄售有订单 | I407: 常州联力自动化科技有限公司
A408: 2 | B408: 泵站电控箱改造（常州联力） | C408: 11786311 | D408: 转接头\238115250\乳化液泵\K35055M\国产 | E408: 238115250 | F408: 1 | G408: 件 | H408: 寄售有订单 | I408: 常州联力自动化科技有限公司
A409: 3 | B409: 泵站电控箱改造（常州联力） | C409: 11786321 | D409: 母板组件\361120245\乳化液泵\K35055M\国产 | E409: 361120245,,, | F409: 1 | G409: 件 | H409: 寄售有订单 | I409: 常州联力自动化科技有限公司
A410: 4 | B410: 泵站电控箱改造（常州联力） | C410: 11786323 | D410: 适配器\543810267\乳化液泵\K35055M\国产 | E410: 543810267,,, | F410: 1 | G410: 件 | H410: 寄售有订单 | I410: 常州联力自动化科技有限公司
A411: 5 | B411: 泵站电控箱改造（常州联力） | C411: 11908872 | D411: 轻型橡套软电缆\322610080\国产 | F411: 1 | G411: 件 | H411: 寄售有订单 | I411: 常州联力自动化科技有限公司
A412: 6 | B412: 泵站电控箱改造（常州联力） | C412: 11908873 | D412: 转接板\238113064\国产 | F412: 1 | G412: 件 | H412: 寄售有订单 | I412: 常州联力自动化科技有限公司
A413: 7 | B413: 泵站电控箱改造（常州联力） | C413: 11908874 | D413: 支架\213114481\国产 | F413: 1 | G413: 件 | H413: 寄售有订单 | I413: 常州联力自动化科技有限公司
A414: 8 | B414: 泵站电控箱改造（常州联力） | C414: 11908875 | D414: 支架\213114482\国产 | F414: 1 | G414: 件 | H414: 寄售有订单 | I414: 常州联力自动化科技有限公司
A415: 9 | B415: 泵站电控箱改造（常州联力） | C415: 11786136 | D415: 液晶组件制成板\361120502\乳化液泵\K35055M\国产 | E415: 361120502 | F415: 3 | G415: 件 | H415: 寄售有订单 | I415: 常州联力自动化科技有限公司
A416: 10 | B416: 泵站电控箱改造（常州联力） | C416: 11786312 | D416: 显示模块\212110528\乳化液泵\K35055M\国产 | E416: 212110528 | F416: 9 | G416: 件 | H416: 寄售有订单 | I416: 常州联力自动化科技有限公司
A417: 11 | B417: 泵站电控箱改造（常州联力） | C417: 11786313 | D417: 输入模块\212110527|8路\乳化液泵\K35055M\国产 | E417: 212110527 | F417: 9 | G417: 件 | H417: 寄售有订单 | I417: 常州联力自动化科技有限公司
A418: 12 | B418: 泵站电控箱改造（常州联力） | C418: 11786314 | D418: 输出模块\212110526|4路\乳化液泵\K35055M\国产 | E418: 212110526 | F418: 9 | G418: 件 | H418: 寄售有订单 | I418: 常州联力自动化科技有限公司
A419: 13 | B419: 泵站电控箱改造（常州联力） | C419: 11786315 | D419: 输入模块\212110525|4路\乳化液泵\K35055M\国产 | E419: 212110525 | F419: 9 | G419: 件 | H419: 寄售有订单 | I419: 常州联力自动化科技有限公司
A420: 14 | B420: 泵站电控箱改造（常州联力） | C420: 11786316 | D420: 输入模块\212110523|8路\乳化液泵\K35055M\国产 | E420: 212110523 | F420: 9 | G420: 件 | H420: 寄售有订单 | I420: 常州联力自动化科技有限公司
A421: 15 | B421: 泵站电控箱改造（常州联力） | C421: 11786317 | D421: 远程通信模块\212110522\乳化液泵\K35055M\国产 | E421: 212110522 | F421: 9 | G421: 件 | H421: 寄售有订单 | I421: 常州联力自动化科技有限公司
A422: 16 | B422: 泵站电控箱改造（常州联力） | C422: 11786318 | D422: 键盘组件\212110277\乳化液泵\K35055M\国产 | E422: 212110277 | F422: 9 | G422: 件 | H422: 寄售有订单 | I422: 常州联力自动化科技有限公司
...
