Workbook
Name _: #N/A
Name _?: #N/A
Name _??????: #N/A
Name ___PA7: '[1]SW-TEO'!#REF!
Name ___PA8: '[1]SW-TEO'!#REF!
Name ___PD1: '[1]SW-TEO'!#REF!
Name ___PE12: '[1]SW-TEO'!#REF!
Name ___PE13: '[1]SW-TEO'!#REF!
Name ___PE6: '[1]SW-TEO'!#REF!
Name ___PE7: '[1]SW-TEO'!#REF!
Name ___PE8: '[1]SW-TEO'!#REF!
Name ___PE9: '[1]SW-TEO'!#REF!
Name ___PH1: '[1]SW-TEO'!#REF!
Name ___PI1: '[1]SW-TEO'!#REF!
Name ___PK1: '[1]SW-TEO'!#REF!
Name ___PK3: '[1]SW-TEO'!#REF!
Name __PA7: '[2]SW-TEO'!#REF!
Name __PA8: '[2]SW-TEO'!#REF!
Name __PD1: '[2]SW-TEO'!#REF!
Name __PE12: '[2]SW-TEO'!#REF!
Name __PE13: '[2]SW-TEO'!#REF!
Name __PE6: '[2]SW-TEO'!#REF!
Name __PE7: '[2]SW-TEO'!#REF!
Name __PE8: '[2]SW-TEO'!#REF!
Name __PE9: '[2]SW-TEO'!#REF!
Name __PH1: '[2]SW-TEO'!#REF!
Name __PI1: '[2]SW-TEO'!#REF!
Name __PK1: '[2]SW-TEO'!#REF!
Name __PK3: '[2]SW-TEO'!#REF!
Name _PA7: '[2]SW-TEO'!#REF!
Name _PA8: '[2]SW-TEO'!#REF!
Name _PD1: '[2]SW-TEO'!#REF!
Name _PE12: '[2]SW-TEO'!#REF!
Name _PE13: '[2]SW-TEO'!#REF!
Name _PE6: '[2]SW-TEO'!#REF!
Name _PE7: '[2]SW-TEO'!#REF!
Name _PE8: '[2]SW-TEO'!#REF!
Name _PE9: '[2]SW-TEO'!#REF!
Name _PH1: '[2]SW-TEO'!#REF!
Name _PI1: '[2]SW-TEO'!#REF!
Name _PK1: '[2]SW-TEO'!#REF!
Name _PK3: '[2]SW-TEO'!#REF!
Name aa: #N/A
Name aiu_bottom: '[4]Financ. Overview'!#REF!
Name BJDX: '[1]Financ. Overview'!$A$32
Name BJHJ: [5]ZB!$I$32
Name BTBJRQ: [5]ZB!$I$4
Name BTDH: [5]清单汇总表!$B$6
Name BTDHCZ: [5]ZB!$I$5
Name BTDHDW: [5]清单汇总表!$B$4
Name BTDJBH: [5]ZB!$I$3
Name BTLXR: [5]清单汇总表!$B$7
Name BTRQ: [5]清单汇总表!$B$5
Name BTxjdw: [5]ZB!$A$3
Name BTXMMC: [5]ZB!$A$4
Name cost: #N/A
Name Documents_array: [6]XL4Poppy!$B$1:$B$16
Name FRC: [7]eqpmad2!$C$9
Name Hello: [6]XL4Poppy!$A$15
Name HJ: '[5]MXB1'!$A$43

Sheet 招标范围
A1: 神东煤炭集团2018年9月寄售物资公开招标采购方案
A2: 包次 | B2: 物资分类 | C2: 种类 | D2: 质量标准 | E2: 投标要求 | F2: 拟下次寄售协议截止时间 | G2: 交货期 | H2: 交货地点
A3: 1 | B3: 8.8米大采高配套变频一体机备件 | C3: 267 | D3: 报价时附质量标准 | E3: 1.投标人必须是生产厂商； 2.投标人承诺提供产品满足与神东在用主机整体配套使用及零配件的互换性。 | F3: 44377 | G3: 接到甲方通知60天内（具体以甲方实际通知为准） | H3: 甲方指定地点
A4: 2 | B4: 三机电控改造备件 | C4: 13 | D4: 报价时附质量标准 | E4: 1.投标人必须是生产厂商； 2.投标人承诺提供产品满足与神东在用主机整体配套使用及零配件的互换性。 | F4: 44377 | G4: 接到甲方通知60天内（具体以甲方实际通知为准） | H4: 甲方指定地点
A5: 3 | B5: 三机工作面电控改造备件 | C5: 30 | D5: 报价时附质量标准 | E5: 1.投标人必须是生产厂商； 2.投标人承诺提供产品满足与神东在用主机整体配套使用及零配件的互换性。 | F5: 44377 | G5: 接到甲方通知60天内（具体以甲方实际通知为准） | H5: 甲方指定地点
A6: 4 | B6: 无锡威顺改造卡玛特泵站整机备件 | C6: 90 | D6: 报价时附质量标准 | E6: 1.投标人必须是生产厂商； 2.投标人承诺提供产品满足与神东在用主机整体配套使用及零配件的互换性。 | F6: 44561 | G6: 接到甲方通知60天内（具体以甲方实际通知为准） | H6: 甲方指定地点
A7: 5 | B7: 泵站电控箱改造（常州联力） | C7: 28 | D7: 报价时附执行标准 | E7: 1.投标人必须是生产厂商； 2.投标人承诺提供产品满足与神东在用主机整体配套使用及零配件的互换性。 | F7: 44377 | G7: 接到甲方通知60天内（具体以甲方实际通知为准） | H7: 甲方指定地点
A8: 6 | B8: 泵站电控箱改造（青岛天信） | C8: 107 | D8: 报价时附执行标准 | E8: 1.投标人必须是生产厂商； 2.投标人承诺提供产品满足与神东在用主机整体配套使用及零配件的互换性。 | F8: 44377 | G8: 接到甲方通知60天内（具体以甲方实际通知为准） | H8: 甲方指定地点
A9: 7 | B9: 北京天地玛珂改造雷波、卡玛特泵站整机备件 | C9: 213 | D9: 报价时附质量标准 | E9: 1.投标人必须是生产厂商； 2.投标人承诺提供产品满足与神东在用主机整体配套使用及零配件的互换性。 | F9: 44561 | G9: 接到甲方通知60天内（具体以甲方实际通知为准） | H9: 甲方指定地点
A10: 8 | B10: SANDVIK MB670掘锚机电控改造备件 | C10: 82 | D10: 报价时附质量标准 | E10: 1.投标人必须是生产厂商； 2.投标人承诺提供产品满足与神东在用主机整体配套使用及零配件的互换性。 | F10: 44377 | G10: 接到甲方通知60天内（具体以甲方实际通知为准） | H10: 甲方指定地点
A11: 9 | B11: JOY 12CM15连采机电控改造备件 | C11: 151 | D11: 报价时附质量标准 | E11: 1.投标人必须是生产厂商； 2.投标人承诺提供产品满足与神东在用主机整体配套使用及零配件的互换性。 | F11: 44377 | G11: 接到甲方通知60天内（具体以甲方实际通知为准） | H11: 甲方指定地点
A12: 10 | B12: EKF SL500采煤机电控改造备件 | C12: 82 | D12: 报价时附质量标准 | E12: 1.投标人必须是生产厂商； 2.投标人承诺提供产品满足与神东在用主机整体配套使用及零配件的互换性。 | F12: 44377 | G12: 接到甲方通知60天内（具体以甲方实际通知为准） | H12: 甲方指定地点
A13: 11 | B13: EKF SL900采煤机电控改造备件 | C13: 107 | D13: 报价时附质量标准 | E13: 1.投标人必须是生产厂商； 2.投标人承诺提供产品满足与神东在用主机整体配套使用及零配件的互换性。 | F13: 44377 | G13: 接到甲方通知60天内（具体以甲方实际通知为准） | H13: 甲方指定地点
A14: 12 | B14: 采煤机电控改造备件 | C14: 207 | D14: 报价时附质量标准 | E14: 1.投标人必须是生产厂商； 2.投标人承诺提供产品满足与神东在用主机整体配套使用及零配件的互换性。 | F14: 44377 | G14: 接到甲方通知60天内（具体以甲方实际通知为准） | H14: 甲方指定地点
... A30: 28 | B30: 上湾8.8米采煤机牵引块改造备件 | C30: 109 | D30: 报价时附质量标准 | E30: 1.投标人必须是生产厂商； 2.投标人递交投标文件中承诺提供产品满足与神东在用主机整体配套使用及零配件的互换性。 | F30: 44377 | G30: 接到甲方通知60天内（具体以甲方实际通知为准） | H30: 甲方指定地点

Sheet 明细
A1: 序号 | B1: 物资分类 | C1: 物料编码 | D1: 物料描述 | E1: 技术文件 | F1: 预估消耗量 | G1: 计量单位 | H1: 管理方式 | I1: 主机厂家 | J1: 主机型号 | K1: 备注
A2: 一 | B2: 8.8米大采高配套变频一体机备件
A3: 1 | B3: 8.8米大采高配套变频一体机备件 | C3: =VLOOKUP(D3,[17]寄售预测计划!$D:$E,2,0) -> 11874768 | D3: BECKHOFF模块\01020202004 | F3: 1 | G3: 件 | H3: 有订单 | I3: 青岛中加特变频电机有限公司 | J3: KXJ-127 | K3: 变频一体机备件
A4: 2 | B4: 8.8米大采高配套变频一体机备件 | C4: =VLOOKUP(D4,[17]寄售预测计划!$D:$E,2,0) -> 11874769 | D4: BECKHOFF模块\01020202015 | F4: 1 | G4: 件 | H4: 有订单 | I4: 青岛中加特变频电机有限公司 | J4: KXJ-127 | K4: 变频一体机备件
A5: 3 | B5: 8.8米大采高配套变频一体机备件 | C5: =VLOOKUP(D5,[17]寄售预测计划!$D:$E,2,0) -> 11874770 | D5: BECKHOFF模块\01020202017 | F5: 1 | G5: 件 | H5: 有订单 | I5: 青岛中加特变频电机有限公司 | J5: KXJ-127 | K5: 变频一体机备件
A6: 4 | B6: 8.8米大采高配套变频一体机备件 | C6: =VLOOKUP(D6,[17]寄售预测计划!$D:$E,2,0) -> 11874766 | D6: BECKHOFF模块\01020202010 | F6: 1 | G6: 件 | H6: 有订单 | I6: 青岛中加特变频电机有限公司 | J6: KXJ-127 | K6: 变频一体机备件
A7: 5 | B7: 8.8米大采高配套变频一体机备件 | C7: =VLOOKUP(D7,[17]寄售预测计划!$D:$E,2,0) -> 11874757 | D7: 隔离式安全栅\01020703003 | F7: 1 | G7: 件 | H7: 有订单 | I7: 青岛中加特变频电机有限公司 | J7: KXJ-127 | K7: 变频一体机备件
A8: 6 | B8: 8.8米大采高配套变频一体机备件 | C8: =VLOOKUP(D8,[17]寄售预测计划!$D:$E,2,0) -> 11874762 | D8: EIP网关\01020703024 | F8: 1 | G8: 件 | H8: 有订单 | I8: 青岛中加特变频电机有限公司 | J8: KXJ-127 | K8: 变频一体机备件
A9: 7 | B9: 8.8米大采高配套变频一体机备件 | C9: =VLOOKUP(D9,[17]寄售预测计划!$D:$E,2,0) -> 11874761 | D9: 隔离式安全栅\01020703021 | F9: 1 | G9: 件 | H9: 有订单 | I9: 青岛中加特变频电机有限公司 | J9: KXJ-127 | K9: 变频一体机备件
A10: 8 | B10: 8.8米大采高配套变频一体机备件 | C10: =VLOOKUP(D10,[17]寄售预测计划!$D:$E,2,0) -> 11874763 | D10: 断路器\01020603002 | F10: 1 | G10: 件 | H10: 有订单 | I10: 青岛中加特变频电机有限公司 | J10: KXJ-127 | K10: 变频一体机备件
A11: 9 | B11: 8.8米大采高配套变频一体机备件 | C11: =VLOOKUP(D11,[17]寄售预测计划!$D:$E,2,0) -> 11874764 | D11: 开关电源\01020301010 | F11: 1 | G11: 件 | H11: 有订单 | I11: 青岛中加特变频电机有限公司 | J11: KXJ-127 | K11: 变频一体机备件
A12: 10 | B12: 8.8米大采高配套变频一体机备件 | C12: =VLOOKUP(D12,[17]寄售预测计划!$D:$E,2,0) -> 11874765 | D12: 矩阵键盘\01020207001 | F12: 1 | G12: 件 | H12: 有订单 | I12: 青岛中加特变频电机有限公司 | J12: KXJ-127 | K12: 变频一体机备件
A13: 11 | B13: 8.8米大采高配套变频一体机备件 | C13: =VLOOKUP(D13,[17]寄售预测计划!$D:$E,2,0) -> 11874753 | D13: 闭锁按钮组装\04010204002 | F13: 1 | G13: 件 | H13: 有订单 | I13: 青岛中加特变频电机有限公司 | J13: KXJ-127 | K13: 变频一体机备件
A14: 12 | B14: 8.8米大采高配套变频一体机备件 | C14: =VLOOKUP(D14,[17]寄售预测计划!$D:$E,2,0) -> 11874752 | D14: 金属旋钮\01020605002 | F14: 1 | G14: 件 | H14: 有订单 | I14: 青岛中加特变频电机有限公司 | J14: KXJ-127 | K14: 变频一体机备件
... A248: 246 | B248: 8.8米大采高配套变频一体机备件 | C248: =VLOOKUP(D248,[17]寄售预测计划!$D:$E,2,0) -> 11874796 | D248: 前端盖板\04010202043 | F248: 1 | G248: 件 | H248: 有订单 | I248: 青岛中加特变频电机有限公司 | J248: 1200kW | K248: 变频一体机备件
A249: 247 | B249: 8.8米大采高配套变频一体机备件 | C249: =VLOOKUP(D249,[17]寄售预测计划!$D:$E,2,0) -> 11902819 | D249: 电缆连接器插头\01040102016 | F249: 1 | G249: 件 | H249: 有订单 | I249: 青岛中加特变频电机有限公司 | J249: CCS-LQ-03
A250: 248 | B250: 8.8米大采高配套变频一体机备件 | C250: =VLOOKUP(D250,[17]寄售预测计划!$D:$E,2,0) -> 11902820 | D250: 电缆连接器插头\01040102009 | F250: 1 | G250: 件 | H250: 有订单 | I250: 青岛中加特变频电机有限公司 | J250: CCS-LQ-03
A251: 249 | B251: 8.8米大采高配套变频一体机备件 | C251: =VLOOKUP(D251,[17]寄售预测计划!$D:$E,2,0) -> 11902821 | D251: 直式过渡接头\01060602102 | F251: 1 | G251: 件 | H251: 有订单 | I251: 青岛中加特变频电机有限公司 | J251: CCS-LQ-03
A252: 250 | B252: 8.8米大采高配套变频一体机备件 | C252: =VLOOKUP(D252,[17]寄售预测计划!$D:$E,2,0) -> 11902822 | D252: 分水盒\04060301022 | F252: 1 | G252: 件 | H252: 有订单 | I252: 青岛中加特变频电机有限公司 | J252: CCS-LQ-03
A253: 251 | B253: 8.8米大采高配套变频一体机备件 | C253: =VLOOKUP(D253,[17]寄售预测计划!$D:$E,2,0) -> 11902823 | D253: 法兰截止阀\01060603029 | F253: 1 | G253: 件 | H253: 有订单 | I253: 青岛中加特变频电机有限公司 | J253: CCS-LQ-03
A254: 252 | B254: 8.8米大采高配套变频一体机备件 | C254: =VLOOKUP(D254,[17]寄售预测计划!$D:$E,2,0) -> 11902833 | D254: 内螺纹截止阀\01060603032 | F254: 1 | G254: 件 | H254: 有订单 | I254: 青岛中加特变频电机有限公司 | J254: CCS-LQ-03
A255: 253 | B255: 8.8米大采高配套变频一体机备件 | C255: =VLOOKUP(D255,[17]寄售预测计划!$D:$E,2,0) -> 11902837 | D255: 反冲洗过滤器\01060603028 | F255: 1 | G255: 件 | H255: 有订单 | I255: 青岛中加特变频电机有限公司 | J255: CCS-LQ-03
A256: 254 | B256: 8.8米大采高配套变频一体机备件 | C256: =VLOOKUP(D256,[17]寄售预测计划!$D:$E,2,0) -> 11902838 | D256: 法兰截止阀\01060603030 | F256: 1 | G256: 件 | H256: 有订单 | I256: 青岛中加特变频电机有限公司 | J256: CCS-LQ-03
A257: 255 | B257: 8.8米大采高配套变频一体机备件 | C257: =VLOOKUP(D257,[17]寄售预测计划!$D:$E,2,0) -> 11902839 | D257: 截止阀\01060603031 | F257: 1 | G257: 件 | H257: 有订单 | I257: 青岛中加特变频电机有限公司 | J257: CCS-LQ-03
A258: 256 | B258: 8.8米大采高配套变频一体机备件 | C258: =VLOOKUP(D258,[17]寄售预测计划!$D:$E,2,0) -> 11902836 | D258: 安全阀\01060603035 | F258: 1 | G258: 件 | H258: 有订单 | I258: 青岛中加特变频电机有限公司 | J258: CCS-LQ-03
A259: 257 | B259: 8.8米大采高配套变频一体机备件 | C259: =VLOOKUP(D259,[17]寄售预测计划!$D:$E,2,0) -> 11902835 | D259: 转换接头\01060602171 | F259: 1 | G259: 件 | H259: 有订单 | I259: 青岛中加特变频电机有限公司 | J259: CCS-LQ-03
A260: 258 | B260: 8.8米大采高配套变频一体机备件 | C260: =VLOOKUP(D260,[17]寄售预测计划!$D:$E,2,0) -> 11902834 | D260: 压力表\03010609051 | F260: 1 | G260: 件 | H260: 有订单 | I260: 青岛中加特变频电机有限公司 | J260: CCS-LQ-03
... A269: 267 | B269: 8.8米大采高配套变频一体机备件 | C269: =VLOOKUP(D269,[17]寄售预测计划!$D:$E,2,0) -> 11902824 | D269: 矿用防爆型电机\01021501004 | F269: 1 | G269: 件 | H269: 有订单 | I269: 青岛中加特变频电机有限公司 | J269: CCS-LQ-03
A270: 二 | B270: 三机电控改造备件
A271: 1 | B271: 三机电控改造备件 | C271: =VLOOKUP(D271,[17]寄售预测计划!$D:$E,2,0) -> 11616870 | D271: 终端插头\214110018\国产 | F271: 1 | G271: 件 | H271: 有订单 | I271: 常州联力
A272: 2 | B272: 三机电控改造备件 | C272: =VLOOKUP(D272,[17]寄售预测计划!$D:$E,2,0) -> 11908870 | D272: 矿用可编程控制器\111210077\KXH18 | F272: 1 | G272: 件 | H272: 有订单 | I272: 常州联力
A273: 3 | B273: 三机电控改造备件 | C273: =VLOOKUP(D273,[17]寄售预测计划!$D:$E,2,0) -> 11908871 | D273: 矿用隔爆兼本安型控制器\111210084\KXJ127 | F273: 1 | G273: 件 | H273: 有订单 | I273: 常州联力
A274: 4 | B274: 三机电控改造备件 | C274: =VLOOKUP(D274,[17]寄售预测计划!$D:$E,2,0) -> 11908869 | D274: 矿用本安型控制器\111210081\KXH18(B) | F274: 1 | G274: 件 | H274: 有订单 | I274: 常州联力
A275: 5 | B275: 三机电控改造备件 | C275: =VLOOKUP(D275,[17]寄售预测计划!$D:$E,2,0) -> 11908868 | D275: 隔爆兼本安电源箱\111210064\DXJ127/18*A1 | F275: 1 | G275: 件 | H275: 有订单 | I275: 常州联力
A276: 6 | B276: 三机电控改造备件 | C276: =VLOOKUP(D276,[17]寄售预测计划!$D:$E,2,0) -> 11908867 | D276: 工作面不锈钢铠装接插电缆(300m)\371110165\MHYVP322*1.5+1.0*2+2*0.5+2*0.5 | F276: 1 | G276: 件 | H276: 有订单 | I276: 常州联力
A277: 7 | B277: 三机电控改造备件 | C277: =VLOOKUP(D277,[17]寄售预测计划!$D:$E,2,0) -> 11908866 | D277: 工作面不锈钢铠装接插电缆(350m)\371110166\MHYVP322*1.5+1.0*2+2*0.5+2*0.5 | F277: 1 | G277: 件 | H277: 有订单 | I277: 常州联力
A278: 8 | B278: 三机电控改造备件 | C278: =VLOOKUP(D278,[17]寄售预测计划!$D:$E,2,0) -> 11908865 | D278: KTK16(C)矿用本安型急停扩音电话（件号：B2）\111210124\KTKB1.0P | F278: 1 | G278: 件 | H278: 有订单 | I278: 常州联力
A279: 9 | B279: 三机电控改造备件 | C279: =VLOOKUP(D279,[17]寄售预测计划!$D:$E,2,0) -> 11908864 | D279: 控制分站主板\141210008\KTC2.02 | F279: 1 | G279: 件 | H279: 有订单 | I279: 常州联力
A280: 10 | B280: 三机电控改造备件 | C280: =VLOOKUP(D280,[17]寄售预测计划!$D:$E,2,0) -> 11908863 | D280: 信号调理板\361120196\KTC2.03 | F280: 1 | G280: 件 | H280: 有订单 | I280: 常州联力
A281: 11 | B281: 三机电控改造备件 | C281: =VLOOKUP(D281,[17]寄售预测计划!$D:$E,2,0) -> 11908862 | D281: 主控板\141210009\KTC1.02 | F281: 1 | G281: 件 | H281: 有订单 | I281: 常州联力
...
